BEGIN:VCALENDAR
VERSION:2.0
PRODID:-//Forth Valley Medical Education - ECPv6.15.18//NONSGML v1.0//EN
CALSCALE:GREGORIAN
METHOD:PUBLISH
X-WR-CALNAME:Forth Valley Medical Education
X-ORIGINAL-URL:https://fvme.org
X-WR-CALDESC:Events for Forth Valley Medical Education
REFRESH-INTERVAL;VALUE=DURATION:PT1H
X-Robots-Tag:noindex
X-PUBLISHED-TTL:PT1H
BEGIN:VTIMEZONE
TZID:Europe/London
BEGIN:DAYLIGHT
TZOFFSETFROM:+0000
TZOFFSETTO:+0100
TZNAME:BST
DTSTART:20250330T010000
END:DAYLIGHT
BEGIN:STANDARD
TZOFFSETFROM:+0100
TZOFFSETTO:+0000
TZNAME:GMT
DTSTART:20251026T010000
END:STANDARD
BEGIN:DAYLIGHT
TZOFFSETFROM:+0000
TZOFFSETTO:+0100
TZNAME:BST
DTSTART:20260329T010000
END:DAYLIGHT
BEGIN:STANDARD
TZOFFSETFROM:+0100
TZOFFSETTO:+0000
TZNAME:GMT
DTSTART:20261025T010000
END:STANDARD
BEGIN:DAYLIGHT
TZOFFSETFROM:+0000
TZOFFSETTO:+0100
TZNAME:BST
DTSTART:20270328T010000
END:DAYLIGHT
BEGIN:STANDARD
TZOFFSETFROM:+0100
TZOFFSETTO:+0000
TZNAME:GMT
DTSTART:20271031T010000
END:STANDARD
END:VTIMEZONE
BEGIN:VEVENT
DTSTART;TZID=Europe/London:20260415T090000
DTEND;TZID=Europe/London:20260415T170000
DTSTAMP:20260421T093617
CREATED:20250905T151639Z
LAST-MODIFIED:20250905T151639Z
UID:10016271-1776243600-1776272400@fvme.org
SUMMARY:Dundee Assistantship Sim Day
DESCRIPTION:CTF led simulation day for Dundee Assistantship students. Starting at 9am in the Sim Centre (level 2 medical education).
URL:https://fvme.org/event/dundee-assistantship-sim-day-3/
CATEGORIES:Undergraduate
END:VEVENT
BEGIN:VEVENT
DTSTART;TZID=Europe/London:20260415T103000
DTEND;TZID=Europe/London:20260415T113000
DTSTAMP:20260421T093617
CREATED:20250106T120825Z
LAST-MODIFIED:20260304T140601Z
UID:10010288-1776249000-1776252600@fvme.org
SUMMARY:Radiology Teaching with Dr Gammack
DESCRIPTION:This is a weekly teaching open to all students on their medical and surgical rotations at FVRH. It will be lead by Dr Gammack and is a four part series. It will be held from 10:30 to 11:30 in the medical education seminar room on Wednesdays
URL:https://fvme.org/event/radiology-teaching-with-dr-gammack-2/2026-04-15/
LOCATION:Med Ed Seminar Room 2nd floor
CATEGORIES:Undergraduate
END:VEVENT
BEGIN:VEVENT
DTSTART;TZID=Europe/London:20260415T113000
DTEND;TZID=Europe/London:20260415T130000
DTSTAMP:20260421T093617
CREATED:20250821T083128Z
LAST-MODIFIED:20260304T141452Z
UID:10012696-1776252600-1776258000@fvme.org
SUMMARY:Surgical Teaching Mr Winkler
DESCRIPTION:Wednesdays 11:30- 13:00 in seminar room (level 2 medical education centre) \nTeaching for all surgical students from Mr Winkler or Dr Summers (breast surgeon) \n 
URL:https://fvme.org/event/surgical-teaching-mr-winkler/2026-04-15/
CATEGORIES:Undergraduate
END:VEVENT
END:VCALENDAR