BEGIN:VCALENDAR
VERSION:2.0
PRODID:-//Forth Valley Medical Education - ECPv6.15.20//NONSGML v1.0//EN
CALSCALE:GREGORIAN
METHOD:PUBLISH
X-WR-CALNAME:Forth Valley Medical Education
X-ORIGINAL-URL:https://fvme.org
X-WR-CALDESC:Events for Forth Valley Medical Education
REFRESH-INTERVAL;VALUE=DURATION:PT1H
X-Robots-Tag:noindex
X-PUBLISHED-TTL:PT1H
BEGIN:VTIMEZONE
TZID:Europe/London
BEGIN:DAYLIGHT
TZOFFSETFROM:+0000
TZOFFSETTO:+0100
TZNAME:BST
DTSTART:20250330T010000
END:DAYLIGHT
BEGIN:STANDARD
TZOFFSETFROM:+0100
TZOFFSETTO:+0000
TZNAME:GMT
DTSTART:20251026T010000
END:STANDARD
BEGIN:DAYLIGHT
TZOFFSETFROM:+0000
TZOFFSETTO:+0100
TZNAME:BST
DTSTART:20260329T010000
END:DAYLIGHT
BEGIN:STANDARD
TZOFFSETFROM:+0100
TZOFFSETTO:+0000
TZNAME:GMT
DTSTART:20261025T010000
END:STANDARD
BEGIN:DAYLIGHT
TZOFFSETFROM:+0000
TZOFFSETTO:+0100
TZNAME:BST
DTSTART:20270328T010000
END:DAYLIGHT
BEGIN:STANDARD
TZOFFSETFROM:+0100
TZOFFSETTO:+0000
TZNAME:GMT
DTSTART:20271031T010000
END:STANDARD
END:VTIMEZONE
BEGIN:VEVENT
DTSTART;TZID=Europe/London:20260424T133000
DTEND;TZID=Europe/London:20260424T153000
DTSTAMP:20260424T095016
CREATED:20250819T091247Z
LAST-MODIFIED:20260224T122046Z
UID:10015735-1777037400-1777044600@fvme.org
SUMMARY:Undergraduate Grand Round
DESCRIPTION:Undergraduate grand round takes place each week at 1.30pm in LC Room 8. If you would like to present please e-mail the undergraduate inbox. \n  \nOn the following dates\, a different room will be used for the grand round: \nFriday 26th September – LC Room 7 \nFriday 5th December  LC Room 7 \n16/01-> Room 7 (level 3) \n30/01 -> Room 7 \n6/02 -> Room 7 \n13/02-> Room 5 (level 3) \n20/02->Room 7 \n10/04-> Room 7 \n17/04-> Seminar room (level 2) \n08/05 -> Seminar room (level 2) \n  \n 
URL:https://fvme.org/event/undergraduate-grand-round-2-2/2026-04-24/
CATEGORIES:Undergraduate
END:VEVENT
END:VCALENDAR