BEGIN:VCALENDAR
VERSION:2.0
PRODID:-//Forth Valley Medical Education - ECPv6.15.20//NONSGML v1.0//EN
CALSCALE:GREGORIAN
METHOD:PUBLISH
X-WR-CALNAME:Forth Valley Medical Education
X-ORIGINAL-URL:https://fvme.org
X-WR-CALDESC:Events for Forth Valley Medical Education
REFRESH-INTERVAL;VALUE=DURATION:PT1H
X-Robots-Tag:noindex
X-PUBLISHED-TTL:PT1H
BEGIN:VTIMEZONE
TZID:Europe/London
BEGIN:DAYLIGHT
TZOFFSETFROM:+0000
TZOFFSETTO:+0100
TZNAME:BST
DTSTART:20250330T010000
END:DAYLIGHT
BEGIN:STANDARD
TZOFFSETFROM:+0100
TZOFFSETTO:+0000
TZNAME:GMT
DTSTART:20251026T010000
END:STANDARD
BEGIN:DAYLIGHT
TZOFFSETFROM:+0000
TZOFFSETTO:+0100
TZNAME:BST
DTSTART:20260329T010000
END:DAYLIGHT
BEGIN:STANDARD
TZOFFSETFROM:+0100
TZOFFSETTO:+0000
TZNAME:GMT
DTSTART:20261025T010000
END:STANDARD
BEGIN:DAYLIGHT
TZOFFSETFROM:+0000
TZOFFSETTO:+0100
TZNAME:BST
DTSTART:20270328T010000
END:DAYLIGHT
BEGIN:STANDARD
TZOFFSETFROM:+0100
TZOFFSETTO:+0000
TZNAME:GMT
DTSTART:20271031T010000
END:STANDARD
END:VTIMEZONE
BEGIN:VEVENT
DTSTART;TZID=Europe/London:20260511T140000
DTEND;TZID=Europe/London:20260511T160000
DTSTAMP:20260426T005731
CREATED:20260414T151113Z
LAST-MODIFIED:20260424T100226Z
UID:10017194-1778508000-1778515200@fvme.org
SUMMARY:Dr Scougal bedside teaching - Glasgow Y3 medicine
DESCRIPTION:Consultant led bedside teaching for Glasgow junior medicine students. Please meet outside the library (level 2 medical education) at 2pm.
URL:https://fvme.org/event/dr-scougal-bedside-teaching-glasgow-y3-medicine/2026-05-11/
CATEGORIES:Undergraduate
END:VEVENT
BEGIN:VEVENT
DTSTART;TZID=Europe/London:20260512T113000
DTEND;TZID=Europe/London:20260512T123000
DTSTAMP:20260426T005731
CREATED:20250422T085111Z
LAST-MODIFIED:20260216T105635Z
UID:10008671-1778585400-1778589000@fvme.org
SUMMARY:Surgical Teaching - Mr Crumley
DESCRIPTION:Weekly teaching with Mr Crumley from 11:30 to 12:30 in the medical education seminar room. \n 
URL:https://fvme.org/event/surgical-teaching-mr-crumley-2-2-2/2026-05-12/
LOCATION:Med Ed Seminar Room 2nd floor
CATEGORIES:Undergraduate
END:VEVENT
BEGIN:VEVENT
DTSTART;TZID=Europe/London:20260512T133000
DTEND;TZID=Europe/London:20260512T153000
DTSTAMP:20260426T005731
CREATED:20260414T145707Z
LAST-MODIFIED:20260414T145707Z
UID:10016633-1778592600-1778599800@fvme.org
SUMMARY:CTF teaching - Glasgow Y3 medicine
DESCRIPTION:Weekly CTF led teaching for Glasgow Y3 medicine students. \n1.30pm in the seminar room. Level 2 medical education.
URL:https://fvme.org/event/ctf-teaching-glasgow-y3-medicine/2026-05-12/
CATEGORIES:Undergraduate
END:VEVENT
BEGIN:VEVENT
DTSTART;TZID=Europe/London:20260513T103000
DTEND;TZID=Europe/London:20260513T113000
DTSTAMP:20260426T005731
CREATED:20250106T120825Z
LAST-MODIFIED:20260423T165712Z
UID:10010292-1778668200-1778671800@fvme.org
SUMMARY:Radiology Teaching with Dr Gammack
DESCRIPTION:This is a weekly teaching open to all students on their medical and surgical rotations at FVRH. It will be lead by Dr Gammack and is a four part series. It will be held from 10:30 to 11:30 in the medical education seminar room on Wednesdays
URL:https://fvme.org/event/radiology-teaching-with-dr-gammack-2/2026-05-13/
LOCATION:Med Ed Seminar Room 2nd floor
CATEGORIES:Undergraduate
END:VEVENT
BEGIN:VEVENT
DTSTART;TZID=Europe/London:20260513T113000
DTEND;TZID=Europe/London:20260513T130000
DTSTAMP:20260426T005731
CREATED:20250821T083128Z
LAST-MODIFIED:20260423T165803Z
UID:10012700-1778671800-1778677200@fvme.org
SUMMARY:Surgical Teaching Mr Winkler
DESCRIPTION:Wednesdays 11:30- 13:00 in seminar room (level 2 medical education centre) \nTeaching for all surgical students from Mr Winkler or Dr Summers (breast surgeon) \n 
URL:https://fvme.org/event/surgical-teaching-mr-winkler/2026-05-13/
CATEGORIES:Undergraduate
END:VEVENT
BEGIN:VEVENT
DTSTART;TZID=Europe/London:20260514T093000
DTEND;TZID=Europe/London:20260514T110000
DTSTAMP:20260426T005731
CREATED:20250724T121732Z
LAST-MODIFIED:20250724T121732Z
UID:10014759-1778751000-1778756400@fvme.org
SUMMARY:Anaesthetics end of block sign off- Glasgow 3rd year surgery
DESCRIPTION:Anaesthetics sign off for Glasgow year 3 students to go through log book and cases. \nPlease find room bookings below: \nAll sessions at 9:30-11:00am: \n19/2/26- LC Room 3  \n26/3/26- LC Room 4 \n14/5/26- LC Room 3 \n18/6/26- LC Room 3 \n 
URL:https://fvme.org/event/anaesthetics-end-of-block-sign-off-glasgow-3rd-year-surgery/2026-05-14/
CATEGORIES:Undergraduate
END:VEVENT
BEGIN:VEVENT
DTSTART;TZID=Europe/London:20260514T103000
DTEND;TZID=Europe/London:20260514T113000
DTSTAMP:20260426T005731
CREATED:20250819T091000Z
LAST-MODIFIED:20260423T164036Z
UID:10015478-1778754600-1778758200@fvme.org
SUMMARY:Surgical teaching - Ms Cannings
DESCRIPTION:Weekly consultant-led surgical teaching with Ms Cannings will take place in the seminar room at 10.30am on Thursdays.
URL:https://fvme.org/event/surgical-teaching-ms-cannings/2026-05-14/
CATEGORIES:Undergraduate
END:VEVENT
BEGIN:VEVENT
DTSTART;TZID=Europe/London:20260514T123000
DTEND;TZID=Europe/London:20260514T133000
DTSTAMP:20260426T005731
CREATED:20260113T113845Z
LAST-MODIFIED:20260226T123704Z
UID:10016589-1778761800-1778765400@fvme.org
SUMMARY:Junior Medicine Clinical reasoning tutorials
DESCRIPTION:Dr Kelly will lead a series of clinical reasoning tutorials for Y3 Glasgow students on their junior medicine placement. These will take place at 12.30pm on Thursdays in the seminar room. \n  \nPlease note: due to clinical commitments these are subject to last-minute cancellation. We will do our best to communicate any cancellations in advance. Thank you for your understanding.
URL:https://fvme.org/event/junior-medicine-clinical-reasoning-tutorials/2026-05-14/
CATEGORIES:Undergraduate
END:VEVENT
BEGIN:VEVENT
DTSTART;TZID=Europe/London:20260514T143000
DTEND;TZID=Europe/London:20260514T170000
DTSTAMP:20260426T005731
CREATED:20260414T150346Z
LAST-MODIFIED:20260420T095043Z
UID:10017461-1778769000-1778778000@fvme.org
SUMMARY:Resident Doctor bedside teaching - Glasgow Y3 medicine
DESCRIPTION:Weekly resident doctor led bedside teaching with focus on clinical examination. \nMeet at 2.30pm outside the library. \nPlease note this may be subject to last minute cancellations due to clinical commitments.
URL:https://fvme.org/event/resident-doctor-bedside-teaching-glasgow-y3-medicine/2026-05-14/
CATEGORIES:Undergraduate
END:VEVENT
BEGIN:VEVENT
DTSTART;TZID=Europe/London:20260515T123000
DTEND;TZID=Europe/London:20260515T133000
DTSTAMP:20260426T005731
CREATED:20250106T120746Z
LAST-MODIFIED:20260416T123550Z
UID:10009489-1778848200-1778851800@fvme.org
SUMMARY:Surgical teaching - Mr Macdonald
DESCRIPTION:Weekly teaching with Mr Macdonald in the medical education seminar on Fridays from 12:30 to 1330
URL:https://fvme.org/event/surgical-teaching-mr-macdonald-2/2026-05-15/
CATEGORIES:Undergraduate
END:VEVENT
BEGIN:VEVENT
DTSTART;TZID=Europe/London:20260515T133000
DTEND;TZID=Europe/London:20260515T153000
DTSTAMP:20260426T005731
CREATED:20250819T091247Z
LAST-MODIFIED:20260224T122046Z
UID:10015738-1778851800-1778859000@fvme.org
SUMMARY:Undergraduate Grand Round
DESCRIPTION:Undergraduate grand round takes place each week at 1.30pm in LC Room 8. If you would like to present please e-mail the undergraduate inbox. \n  \nOn the following dates\, a different room will be used for the grand round: \nFriday 26th September – LC Room 7 \nFriday 5th December  LC Room 7 \n16/01-> Room 7 (level 3) \n30/01 -> Room 7 \n6/02 -> Room 7 \n13/02-> Room 5 (level 3) \n20/02->Room 7 \n10/04-> Room 7 \n17/04-> Seminar room (level 2) \n08/05 -> Seminar room (level 2) \n  \n 
URL:https://fvme.org/event/undergraduate-grand-round-2-2/2026-05-15/
CATEGORIES:Undergraduate
END:VEVENT
BEGIN:VEVENT
DTSTART;TZID=Europe/London:20260518T140000
DTEND;TZID=Europe/London:20260518T160000
DTSTAMP:20260426T005731
CREATED:20260414T151113Z
LAST-MODIFIED:20260424T100226Z
UID:10017195-1779112800-1779120000@fvme.org
SUMMARY:Dr Scougal bedside teaching - Glasgow Y3 medicine
DESCRIPTION:Consultant led bedside teaching for Glasgow junior medicine students. Please meet outside the library (level 2 medical education) at 2pm.
URL:https://fvme.org/event/dr-scougal-bedside-teaching-glasgow-y3-medicine/2026-05-18/
CATEGORIES:Undergraduate
END:VEVENT
BEGIN:VEVENT
DTSTART;TZID=Europe/London:20260519T133000
DTEND;TZID=Europe/London:20260519T153000
DTSTAMP:20260426T005731
CREATED:20260414T145707Z
LAST-MODIFIED:20260414T145707Z
UID:10016634-1779197400-1779204600@fvme.org
SUMMARY:CTF teaching - Glasgow Y3 medicine
DESCRIPTION:Weekly CTF led teaching for Glasgow Y3 medicine students. \n1.30pm in the seminar room. Level 2 medical education.
URL:https://fvme.org/event/ctf-teaching-glasgow-y3-medicine/2026-05-19/
CATEGORIES:Undergraduate
END:VEVENT
BEGIN:VEVENT
DTSTART;TZID=Europe/London:20260520T103000
DTEND;TZID=Europe/London:20260520T113000
DTSTAMP:20260426T005731
CREATED:20250106T120825Z
LAST-MODIFIED:20260423T165712Z
UID:10010293-1779273000-1779276600@fvme.org
SUMMARY:Radiology Teaching with Dr Gammack
DESCRIPTION:This is a weekly teaching open to all students on their medical and surgical rotations at FVRH. It will be lead by Dr Gammack and is a four part series. It will be held from 10:30 to 11:30 in the medical education seminar room on Wednesdays
URL:https://fvme.org/event/radiology-teaching-with-dr-gammack-2/2026-05-20/
LOCATION:Med Ed Seminar Room 2nd floor
CATEGORIES:Undergraduate
END:VEVENT
BEGIN:VEVENT
DTSTART;TZID=Europe/London:20260520T113000
DTEND;TZID=Europe/London:20260520T130000
DTSTAMP:20260426T005731
CREATED:20250821T083128Z
LAST-MODIFIED:20260423T165803Z
UID:10012701-1779276600-1779282000@fvme.org
SUMMARY:Surgical Teaching Mr Winkler
DESCRIPTION:Wednesdays 11:30- 13:00 in seminar room (level 2 medical education centre) \nTeaching for all surgical students from Mr Winkler or Dr Summers (breast surgeon) \n 
URL:https://fvme.org/event/surgical-teaching-mr-winkler/2026-05-20/
CATEGORIES:Undergraduate
END:VEVENT
BEGIN:VEVENT
DTSTART;TZID=Europe/London:20260521T103000
DTEND;TZID=Europe/London:20260521T113000
DTSTAMP:20260426T005731
CREATED:20250819T091000Z
LAST-MODIFIED:20260423T164036Z
UID:10015479-1779359400-1779363000@fvme.org
SUMMARY:Surgical teaching - Ms Cannings
DESCRIPTION:Weekly consultant-led surgical teaching with Ms Cannings will take place in the seminar room at 10.30am on Thursdays.
URL:https://fvme.org/event/surgical-teaching-ms-cannings/2026-05-21/
CATEGORIES:Undergraduate
END:VEVENT
BEGIN:VEVENT
DTSTART;TZID=Europe/London:20260521T123000
DTEND;TZID=Europe/London:20260521T133000
DTSTAMP:20260426T005731
CREATED:20260113T113845Z
LAST-MODIFIED:20260226T123704Z
UID:10016590-1779366600-1779370200@fvme.org
SUMMARY:Junior Medicine Clinical reasoning tutorials
DESCRIPTION:Dr Kelly will lead a series of clinical reasoning tutorials for Y3 Glasgow students on their junior medicine placement. These will take place at 12.30pm on Thursdays in the seminar room. \n  \nPlease note: due to clinical commitments these are subject to last-minute cancellation. We will do our best to communicate any cancellations in advance. Thank you for your understanding.
URL:https://fvme.org/event/junior-medicine-clinical-reasoning-tutorials/2026-05-21/
CATEGORIES:Undergraduate
END:VEVENT
BEGIN:VEVENT
DTSTART;TZID=Europe/London:20260521T143000
DTEND;TZID=Europe/London:20260521T170000
DTSTAMP:20260426T005731
CREATED:20260414T150346Z
LAST-MODIFIED:20260420T095043Z
UID:10017462-1779373800-1779382800@fvme.org
SUMMARY:Resident Doctor bedside teaching - Glasgow Y3 medicine
DESCRIPTION:Weekly resident doctor led bedside teaching with focus on clinical examination. \nMeet at 2.30pm outside the library. \nPlease note this may be subject to last minute cancellations due to clinical commitments.
URL:https://fvme.org/event/resident-doctor-bedside-teaching-glasgow-y3-medicine/2026-05-21/
CATEGORIES:Undergraduate
END:VEVENT
BEGIN:VEVENT
DTSTART;TZID=Europe/London:20260522T123000
DTEND;TZID=Europe/London:20260522T133000
DTSTAMP:20260426T005731
CREATED:20250106T120746Z
LAST-MODIFIED:20260416T123550Z
UID:10009490-1779453000-1779456600@fvme.org
SUMMARY:Surgical teaching - Mr Macdonald
DESCRIPTION:Weekly teaching with Mr Macdonald in the medical education seminar on Fridays from 12:30 to 1330
URL:https://fvme.org/event/surgical-teaching-mr-macdonald-2/2026-05-22/
CATEGORIES:Undergraduate
END:VEVENT
BEGIN:VEVENT
DTSTART;TZID=Europe/London:20260522T133000
DTEND;TZID=Europe/London:20260522T153000
DTSTAMP:20260426T005731
CREATED:20250819T091247Z
LAST-MODIFIED:20260224T122046Z
UID:10015739-1779456600-1779463800@fvme.org
SUMMARY:Undergraduate Grand Round
DESCRIPTION:Undergraduate grand round takes place each week at 1.30pm in LC Room 8. If you would like to present please e-mail the undergraduate inbox. \n  \nOn the following dates\, a different room will be used for the grand round: \nFriday 26th September – LC Room 7 \nFriday 5th December  LC Room 7 \n16/01-> Room 7 (level 3) \n30/01 -> Room 7 \n6/02 -> Room 7 \n13/02-> Room 5 (level 3) \n20/02->Room 7 \n10/04-> Room 7 \n17/04-> Seminar room (level 2) \n08/05 -> Seminar room (level 2) \n  \n 
URL:https://fvme.org/event/undergraduate-grand-round-2-2/2026-05-22/
CATEGORIES:Undergraduate
END:VEVENT
BEGIN:VEVENT
DTSTART;TZID=Europe/London:20260525T103000
DTEND;TZID=Europe/London:20260525T121500
DTSTAMP:20260426T005731
CREATED:20260216T134522Z
LAST-MODIFIED:20260216T134522Z
UID:10016569-1779705000-1779711300@fvme.org
SUMMARY:Workshop: Emotional Intelligence in Medicine - Glasgow Y3
DESCRIPTION:For students on general medicine and surgery blocks.\nDate\, time and location will be confirmed by email.
URL:https://fvme.org/event/workshop-emotional-intelligence-in-medicine-glasgow-y3-4/
LOCATION:Learning Centre Room 8
CATEGORIES:Undergraduate
END:VEVENT
BEGIN:VEVENT
DTSTART;TZID=Europe/London:20260525T140000
DTEND;TZID=Europe/London:20260525T160000
DTSTAMP:20260426T005731
CREATED:20260414T151113Z
LAST-MODIFIED:20260424T100226Z
UID:10017196-1779717600-1779724800@fvme.org
SUMMARY:Dr Scougal bedside teaching - Glasgow Y3 medicine
DESCRIPTION:Consultant led bedside teaching for Glasgow junior medicine students. Please meet outside the library (level 2 medical education) at 2pm.
URL:https://fvme.org/event/dr-scougal-bedside-teaching-glasgow-y3-medicine/2026-05-25/
CATEGORIES:Undergraduate
END:VEVENT
BEGIN:VEVENT
DTSTART;TZID=Europe/London:20260526T090000
DTEND;TZID=Europe/London:20260526T170000
DTSTAMP:20260426T005731
CREATED:20250905T152136Z
LAST-MODIFIED:20260305T144155Z
UID:10016275-1779786000-1779814800@fvme.org
SUMMARY:Glasgow Year 3 Medicine & Surgery Sim Day
DESCRIPTION:CTF led simulation day for Glasgow 3rd year medicine and surgery students. Starting at 9am in the Sim Centre (level 2 medical education).
URL:https://fvme.org/event/glasgow-year-3-surgery-sim-day-4/
CATEGORIES:Undergraduate
END:VEVENT
BEGIN:VEVENT
DTSTART;TZID=Europe/London:20260526T133000
DTEND;TZID=Europe/London:20260526T153000
DTSTAMP:20260426T005731
CREATED:20260414T145707Z
LAST-MODIFIED:20260414T145707Z
UID:10016635-1779802200-1779809400@fvme.org
SUMMARY:CTF teaching - Glasgow Y3 medicine
DESCRIPTION:Weekly CTF led teaching for Glasgow Y3 medicine students. \n1.30pm in the seminar room. Level 2 medical education.
URL:https://fvme.org/event/ctf-teaching-glasgow-y3-medicine/2026-05-26/
CATEGORIES:Undergraduate
END:VEVENT
BEGIN:VEVENT
DTSTART;TZID=Europe/London:20260527T103000
DTEND;TZID=Europe/London:20260527T113000
DTSTAMP:20260426T005731
CREATED:20250106T120825Z
LAST-MODIFIED:20260423T165712Z
UID:10010294-1779877800-1779881400@fvme.org
SUMMARY:Radiology Teaching with Dr Gammack
DESCRIPTION:This is a weekly teaching open to all students on their medical and surgical rotations at FVRH. It will be lead by Dr Gammack and is a four part series. It will be held from 10:30 to 11:30 in the medical education seminar room on Wednesdays
URL:https://fvme.org/event/radiology-teaching-with-dr-gammack-2/2026-05-27/
LOCATION:Med Ed Seminar Room 2nd floor
CATEGORIES:Undergraduate
END:VEVENT
BEGIN:VEVENT
DTSTART;TZID=Europe/London:20260527T113000
DTEND;TZID=Europe/London:20260527T130000
DTSTAMP:20260426T005731
CREATED:20250821T083128Z
LAST-MODIFIED:20260423T165803Z
UID:10012702-1779881400-1779886800@fvme.org
SUMMARY:Surgical Teaching Mr Winkler
DESCRIPTION:Wednesdays 11:30- 13:00 in seminar room (level 2 medical education centre) \nTeaching for all surgical students from Mr Winkler or Dr Summers (breast surgeon) \n 
URL:https://fvme.org/event/surgical-teaching-mr-winkler/2026-05-27/
CATEGORIES:Undergraduate
END:VEVENT
BEGIN:VEVENT
DTSTART;TZID=Europe/London:20260528T103000
DTEND;TZID=Europe/London:20260528T113000
DTSTAMP:20260426T005731
CREATED:20250819T091000Z
LAST-MODIFIED:20260423T164036Z
UID:10015480-1779964200-1779967800@fvme.org
SUMMARY:Surgical teaching - Ms Cannings
DESCRIPTION:Weekly consultant-led surgical teaching with Ms Cannings will take place in the seminar room at 10.30am on Thursdays.
URL:https://fvme.org/event/surgical-teaching-ms-cannings/2026-05-28/
CATEGORIES:Undergraduate
END:VEVENT
BEGIN:VEVENT
DTSTART;TZID=Europe/London:20260528T143000
DTEND;TZID=Europe/London:20260528T170000
DTSTAMP:20260426T005731
CREATED:20260414T150346Z
LAST-MODIFIED:20260420T095043Z
UID:10017463-1779978600-1779987600@fvme.org
SUMMARY:Resident Doctor bedside teaching - Glasgow Y3 medicine
DESCRIPTION:Weekly resident doctor led bedside teaching with focus on clinical examination. \nMeet at 2.30pm outside the library. \nPlease note this may be subject to last minute cancellations due to clinical commitments.
URL:https://fvme.org/event/resident-doctor-bedside-teaching-glasgow-y3-medicine/2026-05-28/
CATEGORIES:Undergraduate
END:VEVENT
BEGIN:VEVENT
DTSTART;TZID=Europe/London:20260529T123000
DTEND;TZID=Europe/London:20260529T133000
DTSTAMP:20260426T005731
CREATED:20250106T120746Z
LAST-MODIFIED:20260416T123550Z
UID:10009491-1780057800-1780061400@fvme.org
SUMMARY:Surgical teaching - Mr Macdonald
DESCRIPTION:Weekly teaching with Mr Macdonald in the medical education seminar on Fridays from 12:30 to 1330
URL:https://fvme.org/event/surgical-teaching-mr-macdonald-2/2026-05-29/
CATEGORIES:Undergraduate
END:VEVENT
BEGIN:VEVENT
DTSTART;TZID=Europe/London:20260529T133000
DTEND;TZID=Europe/London:20260529T153000
DTSTAMP:20260426T005731
CREATED:20250819T091247Z
LAST-MODIFIED:20260224T122046Z
UID:10015740-1780061400-1780068600@fvme.org
SUMMARY:Undergraduate Grand Round
DESCRIPTION:Undergraduate grand round takes place each week at 1.30pm in LC Room 8. If you would like to present please e-mail the undergraduate inbox. \n  \nOn the following dates\, a different room will be used for the grand round: \nFriday 26th September – LC Room 7 \nFriday 5th December  LC Room 7 \n16/01-> Room 7 (level 3) \n30/01 -> Room 7 \n6/02 -> Room 7 \n13/02-> Room 5 (level 3) \n20/02->Room 7 \n10/04-> Room 7 \n17/04-> Seminar room (level 2) \n08/05 -> Seminar room (level 2) \n  \n 
URL:https://fvme.org/event/undergraduate-grand-round-2-2/2026-05-29/
CATEGORIES:Undergraduate
END:VEVENT
END:VCALENDAR